Workbook
Name CONDICION_POBLACIONAL: [1]Variables!$C$1:$C$24
Name ENCABEZADO: #REF!
Name GRUPO_ETAREO: [1]Variables!$A$1:$A$8
Name GRUPO_ETAREOS: #REF!
Name GRUPO_ETARIO: #REF!
Name GRUPO_ETNICO: #REF!
Name GRUPOETNICO: #REF!
Name GRUPOS_ETNICOS: [1]Variables!$H$1:$H$8
Name LA: #REF!
Name LOCALIDAD: #REF!
Name LOCALIZACION: #REF!
Name tabla: #REF!

Sheet GESTIÓN
G2: DIRECCIONAMIENTO ESTRATÉGICO
G3: Formato: Programación, atualización y seguimiento del plan de acción Actualización y seguimiento al Componente de Gestión
G4: Código: PE01-PR02-F2 | DT4: Versión: 12
A5: DEPENDENCIA: | G5: SEGAE
A6: CÓDIGO Y NOMBRE PROYECTO: | G6: 7794 - Fortalecimiento de la gestión ambiental sectorial, el ecourbanismo y cambio climático en el D.C.Bogotá
A7: Propósito Plan de Desarrollo | G7: 02. Cambiar nuestros hábitos de vida para reverdecer a Bogotá y adaptarnos y mitigar la crisis climática
A8: Programa Plan de Desarrollo | G8: 27. Cambio Cultural para la gestión de la crisis climática
A10: ESTRUCTURA DEL PLAN DE DESARROLLO | C10: 2, META PLAN DE DESARROLLO | E10: 3, INDICADOR ASOCIADO A LA META PLAN DE DESARROLLO | EF10: 4, % CUMPLIMIENTO ACUMULADO (Vigencia) | EG10: 5, % DE AVANCE CUATRIENIO | EH10: 6, DESCRIPCIÓN DE LOS AVANCES Y LOGROS ALCANZADOS | EI10: 7, RETRASOS | EJ10: 8, SOLUCIONES PLANTEADAS | EK10: 9, BENEFICIOS | EL10: 10, FUENTE DE EVIDENCIAS
A11: 1.1 Propósito | B11: 1.2 Programa | C11: 2,1 COD. | D11: 2,2 META PLAN DE DESARROLLO | E11: 3,1 COD. | F11: 3,2 INDICADOR | G11: 3,3 UNIDAD DE MEDIDA | H11: 3,4 TIPOLOGÍA | I11: 3,5 MAGNITUD PD | J11: 3,6 PROGRAMACIÓN - ACTUALIZACIÓN | DT11: 3,7 SEGUIMIENTO VIGENCIA ACTUAL
J12: PROGRAMACIÓN INICIAL CUATRIENIO | K12: AÑO 2020 | X12: AÑO 2021 | AW12: AÑO 2022 | BV12: AÑO 2023 | CU12: AÑO 2024 | DT12: ENE. | DU12: FEB | DV12: MAR | DW12: ABR | DX12: MAY | DY12: JUN | DZ12: JUL | EA12: AGO | EB12: SEP | EC12: OCT | ED12: NOV | EE12: DIC
K13: REPROGRAMACIÓN VIGENCIA | L13: PROGR. ANUAL MES JUL. | M13: EJECUTADO JUL. | N13: PROGR. ANUAL MES AGO. | O13: EJECUTADO AGO. | P13: PROGR. ANUAL MES SEP. | Q13: EJECUTADO SEP. | R13: PROGR. ANUAL MES OCT. | S13: EJECUTADO OCT. | T13: PROGR. ANUAL MES NOV. | U13: EJECUTADO NOV. | V13: PROGR. ANUAL MES DIC. | W13: EJECUTADO ACUMULADO AÑO 2020 | X13: REPROGRAMACIÓN VIGENCIA | Y13: PROGR. ANUAL MES ENE. | Z13: EJECUTADO ENE. | AA13: PROGR. ANUAL MES FEB. | AB13: EJECUTADO FEB. | AC13: PROGR. ANUAL MES MAR. | AD13: EJECUTADO MAR. | AE13: PROGR. ANUAL MES ABR. | AF13: EJECUTADO ABR. | AG13: PROGR. ANUAL MES MAY. | AH13: EJECUTADO MAY. | AI13: PROGR. ANUAL MES JUN. | AJ13: EJECUTADO JUN. | AK13: PROGR. ANUAL MES JUL. | AL13: EJECUTADO JUL. | AM13: PROGR. ANUAL MES AGO. | AN13: EJECUTADO AGO. | AO13: PROGR. ANUAL MES SEP. | AP13: EJECUTADO SEP. | AQ13: PROGR. ANUAL MES OCT. | AR13: EJECUTADO OCT. | AS13: PROGR. ANUAL MES NOV. | AT13: EJECUTADO NOV. | AU13: PROGR. ANUAL MES DIC. | AV13: EJECUTADO ACUMUALDO AÑO 2021 | AW13: REPROGRAMACIÓN VIGENCIA | AX13: PROGR. ANUAL MES ENE. | AY13: EJECUTADO ENE. | AZ13: PROGR. ANUAL MES FEB. | BA13: EJECUTADO FEB. | BB13: PROGR. ANUAL MES MAR. | BC13: EJECUTADO MAR. | BD13: PROGR. ANUAL MES ABR. | BE13: EJECUTADO ABR. | BF13: PROGR. ANUAL MES MAY. | BG13: EJECUTADO MAY. | BH13: PROGR. ANUAL MES JUN. | BI13: EJECUTADO JUN. | BJ13: PROGR. ANUAL MES JUL. | BK13: EJECUTADO JUL. | BL13: PROGR. ANUAL MES AGO. | BM13: EJECUTADO AGO. | BN13: PROGR. ANUAL MES SEP. | BO13: EJECUTADO SEP. | BP13: PROGR. ANUAL MES OCT. | BQ13: EJECUTADO OCT. | BR13: PROGR. ANUAL MES NOV. | BS13: EJECUTADO NOV. | BT13: PROGR. ANUAL MES DIC. | BU13: EJECUTADO ACUMUALDO AÑO 2022 | BV13: REPROGRAMACIÓN VIGENCIA | BW13: PROGR. ANUAL MES ENE. | BX13: EJECUTADO ENE. | BY13: PROGR. ANUAL MES FEB. | BZ13: EJECUTADO FEB. | CA13: PROGR. ANUAL MES MAR. | CB13: EJECUTADO MAR. | CC13: PROGR. ANUAL MES ABR. | CD13: EJECUTADO ABR. | CE13: PROGR. ANUAL MES MAY. | CF13: EJECUTADO MAY. | CG13: PROGR. ANUAL MES JUN. | CH13: EJECUTADO JUN. | CI13: PROGR. ANUAL MES JUL. | CJ13: EJECUTADO JUL. | CK13: PROGR. ANUAL MES AGO. | CL13: EJECUTADO AGO. | CM13: PROGR. ANUAL MES SEP. | CN13: EJECUTADO SEP. | CO13: PROGR. ANUAL MES OCT. | CP13: EJECUTADO OCT. | CQ13: PROGR. ANUAL MES NOV. | CR13: EJECUTADO NOV. | CS13: PROGR. ANUAL MES DIC. | CT13: EJECUTADO ACUMUALDO AÑO 2023 | CU13: REPROGRAMACIÓN VIGENCIA | CV13: PROGR. ANUAL MES ENE. | CW13: EJECUTADO ENE. | CX13: PROGR. ANUAL MES FEB. | CY13: EJECUTADO FEB. | CZ13: PROGR. ANUAL MES MAR. | DA13: EJECUTADO MAR. | DB13: PROGR. ANUAL MES ABR. | DC13: EJECUTADO ABR. | DD13: PROGR. ANUAL MES MAY. | DE13: EJECUTADO MAY. | DF13: PROGR. ANUAL MES JUN. | DG13: EJECUTADO JUN. | DH13: PROGR. ANUAL MES JUL. | DI13: EJECUTADO JUL. | DJ13: PROGR. ANUAL MES AGO. | DK13: EJECUTADO AGO. | DL13: PROGR. ANUAL MES SEP. | DM13: EJECUTADO SEP. | DN13: PROGR. ANUAL MES OCT. | DO13: EJECUTADO OCT. | DP13: PROGR. ANUAL MES NOV. | DQ13: EJECUTADO NOV. | DR13: PROGR. ANUAL MES DIC. | DS13: EJECUTADO ACUMUALDO AÑO 2024
A14: 2 | B14: 27 | C14: 198 | D14: Articular e implementar el Plan de Acción Climática Bogotá D.C. 2020-2050 incluyendo la gestión necesaria para lograr una reducción de por lo menos 15% en la emisión de gases de efecto invernadero de Bogotá para 2024, incluyendo herramientas como la participación de la ciudad en los mercados de carbono. | E14: 212 | F14: Número de estrategias consolidadas e implementadas | G14: Número | H14: SUMA | I14: 1 | J14: 1 | K14: 0.15 | L14: 0.15 | M14: 0.03 | N14: 0.15 | O14: 0.05 | P14: 0.15 | Q14: 0.08 | W14: =+Q14 -> 0.08 | X14: 0.25 | AW14: 0.25 | BV14: 0.25 | CU14: 0.1 | DZ14: 0.03 | EA14: 0.05 | EB14: 0.08 | EF14: =EB14/P14 -> 0.53333333 | EG14: =EB14/J14 -> 0.08 | EH14: En la vigencia 2020 se ejecutaron acciones de adaptación al cambio climático priorizadas, con avance del indicador del 0,08 correspondiente a: - Gestión del riesgo por incendio forestal: a) Conocimiento: realización de campaña de prevención de incendios forestales ("MenosIncendiosMásVida"); aportes para la construcción del Plan de Contingencia de la 2a temporada de menos lluvias 2020; actualización de matrices de gran complejidad de incendios. b) Reducción: realización de labores de mitigación. c) Manejo: avance proceso de restauración ecológica en 3 ha de sector afectado por fuego; culminación de valoración económica y ambiental de daños ocasionados por el incendio de Tibanica y avance en la valoración de los incendios en Meandro del Say y Bosa; georreferenciación del incendio en Usme; generación de shapes y salida gráfica de eventos forestales; coordinación de jornada para el despeje del camino del Cerro El Cable; d) Presidencia de la Comisión Distrital para la Prevención y Mitigación de Incendios Forestales. - Respuesta a emergencias: la entidad realizó la activación de 329 emergencias, a las cuales se dio respuesta. - Implementación de instrumentos de planeación ambiental: PIGA: asesorías; participación en la construcción del Dec. de Plásticos de un solo uso; apoyo en la implementación del PIGA de la SDA; Ejecución del Ciclo de Formación en Residuos: Gestión Residuos Hospitalarios y Gestión del aceite usado y pcb´s (43 personas registradas en cada caso); Participación en la modificación de la Resolución 242 de 2014. PACA: revisión de metas formuladas para PACA 2020-2024 y documento elaborado con la información institucional y el resumen de los proyectos de inversión priorizados; reporte del Informe de Seguimiento PACA BMPT vigencia 2020 y Evaluación PACA BMPT cuatrienio; presentación de lineamientos para la formulación PACA 2020-2024. - Seguimiento a otros instrumentos orientados a recuperar y manejar ambientalmente los suelos de protección por riesgo no mitigable: Participación en reuniones de planificación y articulación de acciones en zonas de riesgo no mitigable con instituciones y comunidades, procesos de cartografía social en Altos de La Estancia para construir y concertar un pacto (Administración Distrital y comunidad). Seguimiento a acciones de recuperación ambiental en Nueva Esperanza y Altos de la Estancia. | EI14: N/A | EJ14: N/A | EK14: La ciudad cuenta con acciones para adaptarse al cambio climático, a fin de enfrentar de la mejor manera sus efectos y favorecer la resiliencia. | EL14: Informes de convenios y contratos, reportes de emergencias respondidas por la entidad, informes de seguimiento y de evaluación del PACA, actas de reunión y ayudas de memoria, informes de gestión, reportes de seguimiento.
C15: 199 | D15: Implementar una (1) Estrategia Distrital de Crecimiento Verde con enfoque de sostenibilidad ambiental e innovación que impulse la eficiencia energética, las fuentes no convencionales de energías renovables y la economía circular de manera articulada con los grandes y pequeños generadores y consumidores y que incorpore un sistema de monitoreo para medir la transición hacia un crecimiento verde y el cumplimiento de los ODS | E15: 213 | F15: Numero de estrategias distritales de crecimiento verde implementadas | G15: Número | H15: SUMA | I15: 1 | J15: 1 | K15: 0.05 | L15: 0.05 | M15: 0 | N15: 0.05 | O15: 0.01 | P15: 0.05 | Q15: 0.02 | W15: =+Q15 -> 0.02 | X15: 0.3 | AW15: 0.3 | BV15: 0.3 | CU15: 0.05 | DZ15: 0 | EA15: 0.01 | EB15: 0.02 | EF15: =EB15/P15 -> 0.4 | EG15: =EB15/J15 -> 0.02 | EH15: De acuerdo al acumulado ejecutado en la vigencia 2020, se presenta un avance en el diseño y seguimiento a 1 estrategia de crecimiento verde con enfoque de sostenibilidad, economía circular e innovación para el mes de septiembre de 0.02, en este periodo se realizó la conceptualización estructural de la estrategia de manera gráfica presentada en formato ppt, este producto fue nutrido con la información secundaria trabajada en el mes anterior y fuentes consolidadas propias, incorporando a su vez las ideas consolidadas del equipo de gestión Ambiental Empresarial encabezado por el subdirector. Por otra parte, se inició la elaboración del documento que contendrá la estrategia Distrital de Crecimiento Verde, en esta etapa se concertó una primera versión que se proyecta será la tabla de contenido y se incluyo información correspondiente al primer capítulo "Antecedes del Crecimiento Verde" que se encuentra en proceso de revisión. Por otra parte, con base en la contextualización de la estrategia realizada, se continuo con la articulación externa de la SDA, como la Secretaría Distrital de Desarrollo Económico de quien se recibió aportes y se establecieron agendas de trabajo conjunto en acciones desarrolladas para trabajar la estrategia como soporte a los programas que se encuentra estructurando la mencionada entidad para desarrollar con el sector empresarial de Bogotá, como lo será la estrategia de aglomeraciones dirigida a incentivar, reactivar y fortalecer la economía con líneas dirigidas al emprendimiento, innovación, medición y economía circular. Así mismo, con el acercamiento a líneas de crédito nacionales como Innova Colombia. Es importante tener en cuenta que los avances en las metas dirigidas al uso eficiente de los recursos con la asistencia a proyectos presentados por las empresas, acompañamiento y promoción a negocios verdes, economía circular y producción más limpia en sectores priorizados apuntan a la implementación de la Estrategia Distrital de Crecimiento Verde, las cuales hacen parte de los libros inversión y actividades del presente documento. | EI15: N/A | EJ15: N/A | EK15: La implementación de una Estrategia Distrital de Crecimiento Verde permitirá realizar acciones que incentiven la competitividad en el sector empresarial con la sostenibilidad en el uso de los recursos, menor generación en impactos ambientales y con la promoción de nuevas oportunidades de negocios basados en el aprovechamiento sostenible del capital natural. | EL15: Archivo de gestión SEGAE.
C16: 200 | D16: Realizar la gestión y seguimiento a la aplicación de los determinantes ambientales en 1.000 proyectos de ciudad tomando en cuenta medidas de adaptación y mitigación a la crisis climática. | E16: 214 | F16: Número de proyectos de ciudad con gestión para la incorporación de determinantes ambientales con medidas de mitigación y adaptación al cambio climático. | G16: Numero | H16: SUMA | I16: 600 | J16: 600 | K16: 66 | L16: 66 | M16: 11 | N16: 66 | O16: 22 | P16: 66 | Q16: 33 | W16: =+Q16 -> 33 | X16: 109 | AW16: 172 | BV16: 172 | CU16: 81 | DZ16: 11 | EA16: 22 | EB16: 33 | EF16: =EB16/P16 -> 0.5 | EG16: =EB16/J16 -> 0.055 | EH16: El acumulado ejecutado en la vigencia 2020, corresponde a 33 proyectos, los cuales se han avanzado en la vigencia 2020 y corresponden a proyectos urbanos y arquitectónicos de diferentes escalas, tanto en espacio público como en privado, promoviendo la construcción sostenible y el ecourbanismo en la ciudad. Los proyectos a los cuales se les incorporó criterios de sostenibilidad corresponden a: Un (01) Plan Parcial de Desarrollo, un (01) Plan Parcial de Renovación Urbana, tres (03) Proyectos de Legalización y Regularización de Barrios, cuatro (04) Planes Directores para parques, dieciséis (16) Diseños paisajísticos de parques y zonas verdes, un (01) proyecto de compatibilidad de uso de vivienda en suelo restringido, un (01) Patio zonal para el Sistema Integrado de Transporte Publico - SITP y seis (06) proyectos de infraestructura especial como colegios, tramos viales en intervenciones en Zonas de Manejo y Preservación Ambiental. Durante el mes de septiembre de 2020, se incorporó criterios de sostenibilidad ambiental a once (11) proyectos de diferentes escalas, tanto en espacio público como en privado, promoviendo la construcción sostenible y el ecourbanismo en la ciudad. Los proyectos a los cuales se les incorporo criterios de sostenibilidad corresponden a: Un (01) Plan Director para Parques y zonas verdes, seis (06) proyectos de diseño paisajístico de parques y zonas verde, un (01) Proyecto de Legalización y Regularización de Barrios, un (01) proyecto de compatibilidad de uso de vivienda en suelo restringido, un (01) Patio zonal para el Sistema Integrado de Transporte Publico – SITP y un (01) intervenciones en Zonas de Manejo y Preservación Ambiental. Estos proyectos se encuentran localizados en las siguientes localidades: uno (01) Puente Aranda, dos (02) Bosa, uno (01) Ciudad Bolívar, un (01) Fontibón, un (01) Chapinero, un (01) San Cristóbal, uno (01) Kennedy, uno (01) Tunjuelito, uno (01) Suba y uno (01) Usaquén. | EI16: N/A | EJ16: N/A | EK16: La aplicación y seguimiento de determinantes ambientales en proyectos urbanos y arquitectónicos de diferentes escalas, así como a instrumentos de planeamiento urbano, promueve la construcción sostenible y el ecourbanismo en la ciudad, mediante la armonización de los proyectos urbanos y el modelo de ocupación del territorio con la Estructura ecológica Principal, garantizando mejores espacios para la habitabilidad urbana y mayor equidad e igualdad en la población capitalina. | EL16: Oficios FOREST, Actas, Archivo de Gestión SEGAE.
E17: 215 | F17: Numero de proyectos de ciudad con seguimiento de la aplicación de los determinantes ambientales | G17: Numero | H17: SUMA | I17: 400 | J17: 400 | K17: 20 | L17: 20 | M17: 0 | N17: 20 | O17: 0 | P17: 20 | Q17: 2 | W17: =+Q17 -> 2 | X17: 77 | AW17: 121 | BV17: 121 | CU17: 61 | DZ17: 0 | EA17: 0 | EB17: 2 | EF17: =EB17/P17 -> 0.1 | EG17: =EB17/J17 -> 0.005 | EH17: Durante el mes de septiembre de 2020, se verifico la incorporación de determinantes ambientales a dos (2) proyectos de infraestructura en el espacio público como son: (02) Planes Directores para Parques, correspondientes al Parque Zonal No. 14 del Plan Parcial La Felicidad y el Parque Metropolitano La Independencia y Bicentenario. Estos proyectos verificados se encuentran localizados en las siguientes localidades: uno (01) Fontibón y uno (01) Santa Fe. | EI17: N/A | EJ17: N/A | EK17: La Secretaría Distrital de Ambiente ha realizado importantes esfuerzos incorporando criterios de ecourbanismo y construcción sostenible en proyectos urbanos y arquitectónicos en la Ciudad, por lo cual es necesario realizar la verificación en la incorporación de los lineamientos y determinantes ambientales de ecourbanismo y construcción sostenible a proyectos de infraestructura que actualmente están en operación, evaluando su aporte a las políticas nacionales y distritales que rigen en esta materia y su aporte a la gestión de la crisis climática; así mismo, esta verificación permitirá conocer las dificultades por parte del sector construcción en la incorporación de estos criterios, permitiendo que desde la administración distrital genere estrategias para promover y fortalecer la construcción sostenible en la Ciudad. | EL17: Oficios FOREST, Actas, Archivo de Gestión SEGAE.
C18: 201 | D18: Reverdecer 20.000 m2 en la ciudad a través del fortalecimiento de la infraestructura vegetada | E18: 216 | F18: M2 reverdecidos en la ciudad a través del fortalecimiento de la infraestructura vegetada (techos verdes y jardines verticales con acompañamiento técnico) | G18: M2 | H18: SUMA | I18: 20000 | J18: 20000 | K18: 2500 | L18: 2500 | M18: 0 | N18: 2500 | O18: 741 | P18: 2500 | Q18: 1257 | W18: =+Q18 -> 1257 | X18: 3500 | AW18: 5500 | BV18: 5500 | CU18: 3000 | DZ18: 0 | EA18: 741 | EB18: 1257 | EF18: =EB18/P18 -> 0.5028 | EG18: =EB18/J18 -> 0.06285 | EH18: El acumulado ejecutado en el segundo semestre del 2020 corresponde al 1257 m2 de techos verdes y jardines verticales de los cuales, fue promovido en las siguientes localidades: Santa Fe (26 m2), Chapinero (1103 m2), Suba (30 m2) y Candelaria (98 m2). Durante el mes de septiembre de 2020 se ha realizado el acompañamiento técnico a 516 m2 correspondientes a jardines verticales, en proyectos existentes en espacio público y privado de la localidad de Chapinero (516 m2) de la Ciudad de Bogotá. | EI18: N/A | EJ18: N/A | EK18: El acompañamiento técnico a techos verdes y jardines verticales, promueve la conservación y mejoramiento de estas estructuras, las cuales ofrecen múltiples beneficios ambientales (Eje. Retienen el agua lluvia, mitigan el efecto isla de calor, absorben el ruido), sociales (Eje. Mejoran el paisaje urbano, aumentan el área verde de la ciudad, mejoran la calidad de vida) y económicos (Eje. Mantienen la comodidad térmica al interior de las edificaciones, evitando el uso de calefactores, valorizan el predio, permiten integrarse con sistemas de aprovechamiento de agua lluvia, ahorrando consumo de agua), para la ciudad y sus habitantes. | EL18: Matriz de reporte, archivo de gestión SEGAE.
D20: CONTROL DE CAMBIOS
D21: Versión | E21: Descripción de la Modificación | L21: No. Acto Administrativo y fecha
D22: 12 | E22: Se modifica la periodicidad de reporte y la estructura del documento se ajustó de acuerdo al plan de desarrollo vigente | L22: Radicado 2020IE152434 de septiembre 08 de 2020

Sheet INVERSIÓN
F1: DIRECCIONAMIENTO ESTRATÉGICO
F2: Formato: Programación, atualización y seguimiento del plan de acción Actualización y seguimiento al Componente de Inversión
F3: Código: PE01-PR02-F2 | DS3: Versión: 12
A4: DEPENDENCIA: | F4: SEGAE
A5: CÓDIGO Y NOMBRE PROYECTO: | F5: 7794 - Fortalecimiento de la gestión ambiental sectorial, el ecourbanismo y cambio climático en el D.C.Bogotá
A7: 1, LÍNEA DE ACCIÓN | B7: 2, META DE PROYECTO | E7: 3, COD. META PDD A QUE SE ASOCIA META PROY | F7: 4, VARIABLE REQUERIDA | G7: 5, VALOR CUATRIENIO | H7: 6, PROGRAMACIÓN - ACTUALIZACIÓN | DQ7: 7, EJECUCIÓN | EC7: 8, % CUMPLIMIENTO ACUMULADO (Vigencia) | ED7: 9 ,% DE AVANCE CUATRIENIO | EE7: 10, DESCRIPCIÓN DE LOS AVANCES Y LOGROS ALCANZADOS | EF7: 11, RETRASOS | EG7: 12, SOLUCIONES PLANTEADAS | EH7: 13, BENEFICIOS | EI7: 14, FUENTE DE EVIDENCIAS
H8: AÑO 2020 | U8: AÑO 2021 | AT8: AÑO 2022 | BS8: AÑO 2023 | CR8: AÑO 2024 | DQ8: 7,1 SEGUIMIENTO VIGENCIA ACTUAL
B9: 2,1 COD. | C9: 2,2 META | D9: 2,3 TIPOLOGÍA | H9: PROGRAMACIÓN INICIAL AÑO 2020 | I9: PROGR. ANUAL MES JUL. | J9: EJECUTADO JUL. | K9: PROGR. ANUAL MES AGO. | L9: EJECUTADO AGO. | M9: PROGR. ANUAL MES SEP. | N9: EJECUTADO SEP. | O9: PROGR. ANUAL MES OCT. | P9: EJECUTADO OCT. | Q9: PROGR. ANUAL MES NOV. | R9: EJECUTADO NOV. | S9: PROGR. ANUAL MES DIC. | T9: EJECUTADO ACUMULADO AÑO 2020 | U9: REPROGRAMACIÓN VIGENCIA | V9: PROGR. ANUAL MES ENE. | W9: EJECUTADO ENE. | X9: PROGR. ANUAL MES FEB. | Y9: EJECUTADO FEB. | Z9: PROGR. ANUAL MES MAR. | AA9: EJECUTADO MAR. | AB9: PROGR. ANUAL MES ABR. | AC9: EJECUTADO ABR. | AD9: PROGR. ANUAL MES MAY. | AE9: EJECUTADO MAY. | AF9: PROGR. ANUAL MES JUN. | AG9: EJECUTADO JUN. | AH9: PROGR. ANUAL MES JUL. | AI9: EJECUTADO JUL. | AJ9: PROGR. ANUAL MES AGO. | AK9: EJECUTADO AGO. | AL9: PROGR. ANUAL MES SEP. | AM9: EJECUTADO SEP. | AN9: PROGR. ANUAL MES OCT. | AO9: EJECUTADO OCT. | AP9: PROGR. ANUAL MES NOV. | AQ9: EJECUTADO NOV. | AR9: PROGR. ANUAL MES DIC. | AS9: EJECUTADO ACUMUALDO AÑO 2021 | AT9: REPROGRAMACIÓN VIGENCIA | AU9: PROGR. ANUAL MES ENE. | AV9: EJECUTADO ENE. | AW9: PROGR. ANUAL MES FEB. | AX9: EJECUTADO FEB. | AY9: PROGR. ANUAL MES MAR. | AZ9: EJECUTADO MAR. | BA9: PROGR. ANUAL MES ABR. | BB9: EJECUTADO ABR. | BC9: PROGR. ANUAL MES MAY. | BD9: EJECUTADO MAY. | BE9: PROGR. ANUAL MES JUN. | BF9: EJECUTADO JUN. | BG9: PROGR. ANUAL MES JUL. | BH9: EJECUTADO JUL. | BI9: PROGR. ANUAL MES AGO. | BJ9: EJECUTADO AGO. | BK9: PROGR. ANUAL MES SEP. | BL9: EJECUTADO SEP. | BM9: PROGR. ANUAL MES OCT. | BN9: EJECUTADO OCT. | BO9: PROGR. ANUAL MES NOV. | BP9: EJECUTADO NOV. | BQ9: PROGR. ANUAL MES DIC. | BR9: EJECUTADO ACUMUALDO AÑO 2022 | BS9: REPROGRAMACIÓN VIGENCIA | BT9: PROGR. ANUAL MES ENE. | BU9: EJECUTADO ENE. | BV9: PROGR. ANUAL MES FEB. | BW9: EJECUTADO FEB. | BX9: PROGR. ANUAL MES MAR. | BY9: EJECUTADO MAR. | BZ9: PROGR. ANUAL MES ABR. | CA9: EJECUTADO ABR. | CB9: PROGR. ANUAL MES MAY. | CC9: EJECUTADO MAY. | CD9: PROGR. ANUAL MES JUN. | CE9: EJECUTADO JUN. | CF9: PROGR. ANUAL MES JUL. | CG9: EJECUTADO JUL. | CH9: PROGR. ANUAL MES AGO. | CI9: EJECUTADO AGO. | CJ9: PROGR. ANUAL MES SEP. | CK9: EJECUTADO SEP. | CL9: PROGR. ANUAL MES OCT. | CM9: EJECUTADO OCT. | CN9: PROGR. ANUAL MES NOV. | CO9: EJECUTADO NOV. | CP9: PROGR. ANUAL MES DIC. | CQ9: EJECUTADO ACUMUALDO AÑO 2023 | CR9: REPROGRAMACIÓN VIGENCIA | CS9: PROGR. ANUAL MES ENE. | CT9: EJECUTADO ENE. | CU9: PROGR. ANUAL MES FEB. | CV9: EJECUTADO FEB. | CW9: PROGR. ANUAL MES MAR. | CX9: EJECUTADO MAR. | CY9: PROGR. ANUAL MES ABR. | CZ9: EJECUTADO ABR. | DA9: PROGR. ANUAL MES MAY. | DB9: EJECUTADO MAY. | DC9: PROGR. ANUAL MES JUN. | DD9: EJECUTADO JUN. | DE9: PROGR. ANUAL MES JUL. | DF9: EJECUTADO JUL. | DG9: PROGR. ANUAL MES AGO. | DH9: EJECUTADO AGO. | DI9: PROGR. ANUAL MES SEP. | DJ9: EJECUTADO SEP. | DK9: PROGR. ANUAL MES OCT. | DL9: EJECUTADO OCT. | DM9: PROGR. ANUAL MES NOV. | DN9: EJECUTADO NOV. | DO9: PROGR. ANUAL MES DIC. | DP9: EJECUTADO ACUMUALDO AÑO 2024 | DQ9: ENE. | DR9: FEB. | DS9: MAR. | DT9: ABR. | DU9: MAY. | DV9: JUN. | DW9: JUL. | DX9: AGO. | DY9: SEP. | DZ9: OCT. | EA9: NOV. | EB9: DIC
A10: Ecourbanismo y construcción sostenible | B10: 1 | C10: Realizar a 600 proyectos de infraestructura, la gestión para la aplicación de determinantes ambientales. | D10: SUMA | E10: 200 | F10: MAGNITUD FÍSICA | G10: =+H10+U10+AT10+BS10+CR10 -> 600 | H10: 66 | I10: 66 | J10: 11 | K10: 66 | L10: 22 | M10: 66 | N10: 33 | T10: =+N10 -> 33 | U10: 109 | AT10: 172 | BS10: 172 | CR10: 81 | DW10: 11 | DX10: 22 | DY10: 33 | EC10: =DY10/M10 -> 0.5 | ED10: =DY10/G10 -> 0.055 | EE10: Durante el mes de septiembre de 2020, se incorporó criterios de sostenibilidad ambiental a once (11) proyectos de diferentes escalas, tanto en espacio público como en privado, promoviendo la construcción sostenible y el ecourbanismo en la ciudad para un total acumulado en la vigencia de 33 proyectos. Los proyectos a los cuales se les incorporo criterios de sostenibilidad corresponden a: Un (01) Plan Director para Parques y zonas verdes, seis (06) proyectos de diseño paisajístico de parques y zonas verde, un (01) Proyecto de Legalización y Regularización de Barrios, un (01) proyecto de compatibilidad de uso de vivienda en suelo restringido, un (01) Patio zonal para el Sistema Integrado de Transporte Publico – SITP y un (01) intervenciones en Zonas de Manejo y Preservación Ambiental. Estos proyectos se encuentran localizados en las siguientes localidades: uno (01) Puente Aranda, dos (02) Bosa, uno (01) Ciudad Bolívar, un (01) Fontibón, un (01) Chapinero, un (01) San Cristóbal, uno (01) Kennedy, uno (01) Tunjuelito, uno (01) Suba y uno (01) Usaquén. | EF10: N/A | EG10: N/A | EH10: La aplicación de determinantes ambientales en proyectos urbanos y arquitectónicos de diferentes escalas, así como a instrumentos de planeamiento urbano, promueve la construcción sostenible y el ecourbanismo en la ciudad, mediante la armonización de los proyectos urbanos y el modelo de ocupación del territorio con la Estructura ecológica Principal, garantizando mejores espacios para la habitabilidad urbana y mayor equidad e igualdad en la población capitalina. | EI10: Oficios FOREST, Actas, Archivo de Gestión SEGAE.
F11: PRESUPUESTO VIGENCIA | G11: =M11+AT11+BS11+CR11+U11 -> 3206885000 | H11: 370304000 | I11: 370304000 | J11: 140580000 | K11: 361860000 | L11: 262457000 | M11: 361860000 | N11: 262457000 | T11: =+N11 -> 262457000 | U11: 574654000 | AT11: 899669000 | BS11: 931699000 | CR11: 439003000 | DW11: 140580000 | DX11: =+L11 -> 262457000 | DY11: 262457000 | EC11: =DY11/M11 -> 0.72529984 | ED11: =DY11/G11 -> 0.081841725
F12: MAGNITUD FÍSICA RESERVAS | T12: =+N12 -> 0 | EC12: =DY12/M12 -> #DIV/0! | ED12: =DY12/G12 -> #DIV/0!
F13: RESERVA PRESUPUESTAL | T13: =+N13 -> 0 | EC13: =DY13/M13 -> #DIV/0! | ED13: =DY13/G13 -> #DIV/0!
F14: TOTAL MAGNITUD FÍSICA | G14: =+G10+G12 -> 600 | H14: =+H10 -> 66 | I14: =+I10 -> 66 | J14: =+J10 -> 11 | K14: 66 | L14: =+L10 -> 22 | M14: 66 | N14: =+N10 -> 33 | T14: =+N14 -> 33 | U14: =+U10 -> 109 | AT14: =+AT10 -> 172 | BS14: =+BS10 -> 172 | CR14: =+CR10 -> 81 | DW14: =+DW10 -> 11 | DX14: =+DX10 -> 22 | DY14: =+DY10 -> 33 | EC14: =DY14/M14 -> 0.5 | ED14: =DY14/G14 -> 0.055
F15: TOTAL PRESUPUESTO DE LA META | G15: =+G11+G13 -> 3206885000 | H15: =+H11 -> 370304000 | I15: =+I11 -> 370304000 | J15: =+J11 -> 140580000 | K15: 361860000 | L15: =+L11 -> 262457000 | M15: 361860000 | N15: =+N11 -> 262457000 | T15: =+N15 -> 262457000 | U15: =+U11 -> 574654000 | AT15: =+AT11 -> 899669000 | BS15: =+BS11 -> 931699000 | CR15: =+CR11 -> 439003000 | DW15: =+DW11 -> 140580000 | DX15: =+DX11 -> 262457000 | DY15: =+DY11 -> 262457000 | EC15: =DY15/M15 -> 0.72529984 | ED15: =DY15/G15 -> 0.081841725
B16: 2 | C16: Realizar a 400 proyectos de infraestructura en etapa de operación, el seguimiento a la incorporación de determinantes ambientales. | D16: SUMA | E16: 200 | F16: MAGNITUD FÍSICA | G16: =+H16+U16+AT16+BS16+CR16 -> 400 | H16: 20 | I16: =+H16 -> 20 | J16: 0 | K16: 20 | L16: 0 | M16: 20 | N16: 2 | T16: =+N16 -> 2 | U16: 77 | AT16: 121 | BS16: 121 | CR16: 61 | DW16: 0 | DX16: 0 | DY16: 2 | EC16: =DY16/M16 -> 0.1 | ED16: =DY16/G16 -> 0.005 | EE16: Durante el mes de septiembre de 2020, se verifico la incorporación de determinantes ambientales a dos (2) proyectos de infraestructura en el espacio público como son: (02) Planes Directores para Parques, correspondientes al Parque Zonal No. 14 del Plan Parcial La Felicidad y el Parque Metropolitano La Independencia y Bicentenario. Estos proyectos verificados se encuentran localizados en las siguientes localidades: uno (01) Fontibón y uno (01) Santa Fé. | EF16: N/A | EG16: N/A | EH16: La Secretaría Distrital de Ambiente ha realizado importantes esfuerzos incorporando criterios de ecourbanismo y construcción sostenible en proyectos urbanos y arquitectónicos en la Ciudad, por lo cual es necesario realizar la verificación en la incorporación de los lineamientos y determinantes ambientales de ecourbanismo y construcción sostenible a proyectos de infraestructura que actualmente están en operación, evaluando su aporte a las políticas nacionales y distritales que rigen en esta materia y su aporte a la gestión de la crisis climática; así mismo, esta verificación permitirá conocer las dificultades por parte del sector construcción en la incorporación de estos criterios, permitiendo que desde la administración distrital genere estrategias para promover y fortalecer la construcción sostenible en la Ciudad. | EI16: Archivo de Gestión SEGAE.
F17: PRESUPUESTO VIGENCIA | G17: =M17+AT17+BS17+CR17+U17 -> 1168584000 | H17: 151328000 | I17: 151328000 | J17: 0 | K17: 142884000 | L17: 71774000 | M17: 142884000 | N17: 71774000 | T17: =+N17 -> 71774000 | U17: 198130000 | AT17: 322922000 | BS17: 333054000 | CR17: 171594000 | DW17: 0 | DX17: =+T17 -> 71774000 | DY17: 71774000 | EC17: =DY17/M17 -> 0.50232356 | ED17: =DY17/G17 -> 0.061419633
F18: MAGNITUD FÍSICA RESERVAS | T18: =+N18 -> 0 | EC18: =DY18/M18 -> #DIV/0! | ED18: =DY18/G18 -> #DIV/0!
F19: RESERVA PRESUPUESTAL | T19: =+N19 -> 0 | EC19: =DY19/M19 -> #DIV/0! | ED19: =DY19/G19 -> #DIV/0!
F20: TOTAL MAGNITUD FÍSICA | G20: =+G16 -> 400 | H20: =+H16 -> 20 | I20: =+I16 -> 20 | J20: =+J16 -> 0 | K20: 20 | L20: =+L16 -> 0 | M20: 20 | N20: =+N16 -> 2 | T20: =+N20 -> 2 | U20: =+U16 -> 77 | AT20: =+AT16 -> 121 | BS20: =+BS16 -> 121 | CR20: =+CR16 -> 61 | DW20: =+DW16 -> 0 | DX20: =+DX16 -> 0 | DY20: =+DY16 -> 2 | EC20: =DY20/M20 -> 0.1 | ED20: =DY20/G20 -> 0.005
F21: TOTAL PRESUPUESTO DE LA META | G21: =+G17 -> 1168584000 | H21: =+H17 -> 151328000 | I21: =+I17 -> 151328000 | J21: =+J17 -> 0 | K21: 142884000 | L21: =+L17 -> 71774000 | M21: 142884000 | N21: =+N17 -> 71774000 | T21: =+N21 -> 71774000 | U21: =+U17 -> 198130000 | AT21: =+AT17 -> 322922000 | BS21: =+BS17 -> 333054000 | CR21: =+CR17 -> 171594000 | DW21: =+DW17 -> 0 | DX21: =+DX17 -> 71774000 | DY21: =+DY17 -> 71774000 | EC21: =DY21/M21 -> 0.50232356 | ED21: =DY21/G21 -> 0.061419633
B22: 3 | C22: Realizar a 20000 m2 de techos verdes y jardines verticales, el acompañamiento técnico | D22: SUMA | E22: 201 | F22: MAGNITUD FÍSICA | G22: =+H22+U22+AT22+BS22+CR22 -> 20000 | H22: 2500 | I22: 2500 | J22: 0 | K22: 2500 | L22: 741 | M22: 2500 | N22: 1257 | T22: =+N22 -> 1257 | U22: 3500 | AT22: 5500 | BS22: 5500 | CR22: 3000 | DW22: 0 | DX22: 741 | DY22: 1257 | EC22: =DY22/M22 -> 0.5028 | ED22: =DY22/G22 -> 0.06285 | EE22: El acumulado ejecutado en el segundo semestre del 2020 corresponde al 1257 m2 de techos verdes y jardines verticales de los cuales, fue promovido en las siguientes localidades: Santa Fe (26 m2), Chapinero (1103 m2), Suba (30 m2) y Candelaria (98 m2). Durante el mes de septiembre de 2020 se ha realizado el acompañamiento técnico a 516 m2 correspondientes a jardines verticales, en proyectos existentes en espacio público y privado de la localidad de Chapinero (516 m2) de la Ciudad de Bogotá. | EF22: N/A | EG22: N/A | EH22: El acompañamiento técnico a techos verdes y jardines verticales, promueve la conservacion y mejoramiento de estas estructuras, las cuales ofrecen múltiples beneficios ambientales (Eje. Retienen el agua lluvia, mitigan el efecto isla de calor, absorben el ruido), sociales (Eje. Mejoran el paisaje urbano, aumentan el área verde de la ciudad, mejoran la calidad de vida) y económicos (Eje. Mantienen la comodidad térmica al interior de las edificaciones, evitando el uso de calefactores, valorizan el predio, permiten integrarse con sistemas de aprovechamiento de agua lluvia, ahorrando consumo de agua), para la ciudad y sus habitantes. | EI22: Archivo de Gestión SEGAE.
F23: PRESUPUESTO VIGENCIA | G23: =M23+AT23+BS23+CR23+U23 -> 481567000 | H23: 24546000 | I23: 24546000 | J23: 0 | K23: 24546000 | L23: 10624000 | M23: 24546000 | N23: 10624000 | T23: =+N23 -> 10624000 | U23: 34285000 | AT23: 195229000 | BS23: 197382000 | CR23: 30125000 | DW23: 0 | DX23: 10624000 | DY23: 10624000 | EC23: =DY23/M23 -> 0.43282001 | ED23: =DY23/G23 -> 0.022061312
F24: MAGNITUD FÍSICA RESERVAS | T24: =+N24 -> 0 | EC24: =DY24/M24 -> #DIV/0! | ED24: =DY24/G24 -> #DIV/0!
F25: RESERVA PRESUPUESTAL | T25: =+N25 -> 0 | EC25: =DY25/M25 -> #DIV/0! | ED25: =DY25/G25 -> #DIV/0!
F26: TOTAL MAGNITUD FÍSICA | G26: =+G22 -> 20000 | H26: =+H22 -> 2500 | I26: =+I22 -> 2500 | J26: =+J22 -> 0 | K26: 2500 | L26: =+L22 -> 741 | M26: 2500 | N26: =+N22 -> 1257 | T26: =+N26 -> 1257 | U26: =+U22 -> 3500 | AT26: =+AT22 -> 5500 | BS26: =+BS22 -> 5500 | CR26: =+CR22 -> 3000 | DW26: =+DW22 -> 0 | DX26: =+DX22 -> 741 | DY26: =+DY22 -> 1257 | EC26: =DY26/M26 -> 0.5028 | ED26: =DY26/G26 -> 0.06285
F27: TOTAL PRESUPUESTO DE LA META | G27: =+G23 -> 481567000 | H27: =+H23 -> 24546000 | I27: =+I23 -> 24546000 | J27: =+J23 -> 0 | K27: 24546000 | L27: =+L23 -> 10624000 | M27: 24546000 | N27: =+N23 -> 10624000 | T27: =+N27 -> 10624000 | U27: =+U23 -> 34285000 | AT27: =+AT23 -> 195229000 | BS27: =+BS23 -> 197382000 | CR27: =+CR23 -> 30125000 | DW27: =+DW23 -> 0 | DX27: =+DX23 -> 10624000 | DY27: =+DY23 -> 10624000 | EC27: =DY27/M27 -> 0.43282001 | ED27: =DY27/G27 -> 0.022061312
A28: Gestión Ambiental Empresarial | B28: 4 | C28: Diseñar y hacer seguimiento a 1 estrategia de crecimiento verde con enfoque de sostenibilidad, economía circular e innovación | D28: CRECIENTE | E28: 199 | F28: MAGNITUD FÍSICA | G28: 1 | H28: 0.05 | I28: =+H28 -> 0.05 | J28: 0 | K28: 0.05 | L28: 0.01 | M28: 0.05 | N28: 0.02 | T28: =+N28 -> 0.02 | U28: 0.2 | AT28: 0.65 | BS28: 0.95 | CR28: 1 | DW28: 0 | DX28: 0.01 | DY28: 0.02 | EC28: =DY28/M28 -> 0.4 | ED28: =DY28/G28 -> 0.02 | EE28: Durante el mes de septiembre, se realizó la conceptualización estructural de la estrategia de manera gráfica presentada en formato ppt, este producto fue nutrido con la información secundaria trabajada en el mes anterior y fuentes consolidadas propias, incorporando a su vez las ideas consolidadas del equipo de gestión Ambiental Empresarial encabezado por el subdirector. Por otra parte, se inició la elaboración del documento que contendrá la estrategia Distrital de Crecimiento Verde, en esta etapa se concertó una primera versión de la que se proyecta será la tabla de contenido y se incluyo información correspondiente al primer capítulo "Antecendes del Crecimiento Verde" que se encuetra en proceso de revisión. Por otra parte, con base en la contextualización de la estrategia realizada, se continuo con la articulación externas de la SDA, como la Secretaría Distrital de Desarrollo Económico de quien se recibieron aportes y se establecieron agendas de trabajo conjunto en acciones desarrolladas para trabajar la estrategia como soporte a los programas que se encuentra estructurando la mencionada entidad para desarrollar con el sector empresarial de Bogotá. Así mismo, con el acercamiento a líneas de crédito nacionales como Innova Colombia. | EF28: N/A | EG28: N/A | EH28: La implementación de una Estrategia Distrital de Crecimiento Verde permitirá realizar acciones que incentiven la competitividad en el sector empresarial con la sostenibilidad en el uso de los recursos, menor generación en impactos ambientales y con la promoción de nuevas oportunidades de negocios basados en el aprovechamiento sostenible del capital natural. | EI28: Archivo de gestión SEGAE.
F29: PRESUPUESTO VIGENCIA | G29: =M29+AT29+BS29+CR29+U29 -> 388299000 | H29: 90000000 | I29: =+H29 -> 90000000 | J29: 0 | K29: 90000000 | L29: 69812000 | M29: 90000000 | N29: 69812000 | T29: =+N29 -> 69812000 | U29: 68299000 | AT29: 100000000 | BS29: 100000000 | CR29: 30000000 | DW29: 0 | DX29: 69812000 | DY29: 69812000 | EC29: =DY29/M29 -> 0.77568889 | ED29: =DY29/G29 -> 0.17978929 | EI29: Archivo de gestión SEGAE.
F30: MAGNITUD FÍSICA RESERVAS | T30: =+N30 -> 0 | EC30: =DY30/M30 -> #DIV/0! | ED30: =DY30/G30 -> #DIV/0! | EI30: Archivo de gestión SEGAE.
F31: RESERVA PRESUPUESTAL | T31: =+N31 -> 0 | EC31: =DY31/M31 -> #DIV/0! | ED31: =DY31/G31 -> #DIV/0! | EI31: Archivo de gestión SEGAE.
F32: TOTAL MAGNITUD FÍSICA | G32: =+G28 -> 1 | H32: 0.05 | I32: =+H32 -> 0.05 | J32: =+J28 -> 0 | K32: 0.05 | L32: =+L28 -> 0.01 | M32: 0.05 | N32: 0.01 | T32: =+N32 -> 0.01 | U32: =+U28 -> 0.2 | AT32: =+AT28 -> 0.65 | BS32: =+BS28 -> 0.95 | CR32: =+CR28 -> 1 | DW32: =+DW28 -> 0 | DX32: =+DX28 -> 0.01 | DY32: 0.01 | EC32: =DY32/M32 -> 0.2 | ED32: =DY32/G32 -> 0.01 | EI32: Archivo de gestión SEGAE.
F33: TOTAL PRESUPUESTO DE LA META | G33: =+G29 -> 388299000 | H33: =+H29 -> 90000000 | I33: =+I29 -> 90000000 | J33: =+J29 -> 0 | K33: 90000000 | L33: =+L29 -> 69812000 | M33: 90000000 | N33: =+N29 -> 69812000 | T33: =+N33 -> 69812000 | U33: =+U29 -> 68299000 | AT33: =+AT29 -> 100000000 | BS33: =+BS29 -> 100000000 | CR33: =+CR29 -> 30000000 | DW33: =+DW29 -> 0 | DX33: =+DX29 -> 69812000 | DY33: =+DY29 -> 69812000 | EC33: =DY33/M33 -> 0.77568889 | ED33: =DY33/G33 -> 0.17978929 | EI33: Archivo de gestión SEGAE.
B34: 5 | C34: Asistir a 800 proyectos participantes de programas voluntarios ofrecidos por la SEGAE, para el mejoramiento del desempeño ambiental. | D34: SUMA | E34: 199 | F34: MAGNITUD FÍSICA | G34: =+H34+U34+AT34+BS34+CR34 -> 800 | H34: 50 | I34: =+H34 -> 50 | J34: 0 | K34: 50 | L34: 5 | M34: 50 | N34: 10 | T34: =+N34 -> 10 | U34: 160 | AT34: 240 | BS34: 240 | CR34: 110 | DW34: 0 | DX34: 5 | DY34: 10 | EC34: =DY34/M34 -> 0.2 | ED34: =DY34/G34 -> 0.0125 | EE34: Durante el mes objeto del presente informe, se reportan 10 proyectos de uso eficiente de recursos presentados por las siguientes empresas: AUTOMOTORES SAN JORGE S.A., PAVIMENTOS COLOMBIA S.A.S., PROLACTEOS JR S.A.S., LINCOLN SOLDADURAS DE COLOMBIA LTDA., JA BELTRAN RECICLAJE ECOLOGICO AMBIENTAL S EN C., DHL GLOBAL FORWARDING DEPOSITO ADUANERO COLOMBIA SA, COLTANQUES S.A.S., MINISTERIO DE MINAS Y ENERGIA, PRODUCTORA DE CABLES PROCABLES S.A.S. y PIARO IMPRESORES SAS. | EF34: N/A | EG34: N/A | EH34: El logro del mejoramiento ambiental de las organizaciones a partir de estrategias de prevención, que permitan minimizar el impacto ambiental generado en la ciudad. | EI34: Archivo de gestión SEGAE.
F35: PRESUPUESTO VIGENCIA | G35: =M35+AT35+BS35+CR35+U35 -> 3662465490 | H35: 668935490 | I35: 668935490 | J35: 328110000 | K35: 641192490 | L35: 519353000 | M35: 641192490 | N35: 532019000 | T35: =+N35 -> 532019000 | U35: 699388000 | AT35: 955000000 | BS35: 955000000 | CR35: 411885000 | DW35: 328110000 | DX35: 519353000 | DY35: 532019000 | EC35: =DY35/M35 -> 0.82973367 | ED35: =DY35/G35 -> 0.14526253
F36: MAGNITUD FÍSICA RESERVAS | T36: =+N36 -> 0 | EC36: =DY36/M36 -> #DIV/0! | ED36: =DY36/G36 -> #DIV/0!
F37: RESERVA PRESUPUESTAL | T37: =+N37 -> 0 | EC37: =DY37/M37 -> #DIV/0! | ED37: =DY37/G37 -> #DIV/0!
F38: TOTAL MAGNITUD FÍSICA | G38: =+G34 -> 800 | H38: =+H34 -> 50 | I38: =+I34 -> 50 | J38: =+J34 -> 0 | K38: 50 | L38: =+L34 -> 5 | M38: 50 | N38: 10 | T38: =+N38 -> 10 | U38: =+U34 -> 160 | AT38: =+AT34 -> 240 | BS38: =+BS34 -> 240 | CR38: =+CR34 -> 110 | DW38: =+DW34 -> 0 | DX38: =+DX34 -> 5 | DY38: 10 | EC38: =DY38/M38 -> 0.2 | ED38: =DY38/G38 -> 0.0125
F39: TOTAL PRESUPUESTO DE LA META | G39: =+G35 -> 3662465490 | H39: =+H35 -> 668935490 | I39: =+I35 -> 668935490 | J39: =+J35 -> 328110000 | K39: 641192490 | L39: =+L35 -> 519353000 | M39: 641192490 | N39: =+N35 -> 532019000 | T39: =+N39 -> 532019000 | U39: =+U35 -> 699388000 | AT39: =+AT35 -> 955000000 | BS39: =+BS35 -> 955000000 | CR39: =+CR35 -> 411885000 | DW39: =+DW35 -> 328110000 | DX39: =+DX35 -> 519353000 | DY39: =+DY35 -> 532019000 | EC39: =DY39/M39 -> 0.82973367 | ED39: =DY39/G39 -> 0.14526253
B40: 6 | C40: Acompañar y promover a 100 empresas en el proceso de verificación de los criterios de Negocios verdes. | D40: SUMA | E40: 199 | F40: MAGNITUD FÍSICA | G40: =+H40+U40+AT40+BS40+CR40 -> 100 | H40: 10 | I40: =+H40 -> 10 | J40: 2 | K40: 10 | L40: 4 | M40: 10 | N40: 6 | T40: =+N40 -> 6 | U40: 20 | AT40: 27 | BS40: 27 | CR40: 16 | DW40: 2 | DX40: 4 | DY40: 6 | EC40: =DY40/M40 -> 0.6 | ED40: =DY40/G40 -> 0.06 | EE40: Durante el mes de septiembre se reconoce a dos (2) negocios verdes, los cuales obtienen un puntaje en promedio de 65% en los criterios evaluados, generando un acumulado de seis (6) negocios verdes. Adicionalmente, se realizó un proceso de acompañamiento basado en la participación de una convocatoria realizada por Innpulsa Colombia para para fortalecer los negocios verdes que se encuentran en el marco de los sectores económicos de industrias creativas y se generó el Plan Distrital de Negocios Verdes para su aprobación. | EF40: N/A | EG40: N/A | EH40: Permite promover el fortalecimiento de actividades económicas que ofrecen bienes o servicios que generan impactos ambientales positivos y que, además, incorpora buenas prácticas ambientales, sociales, económicas, con enfoque de ciclo de vida, contribuyendo al consumo sostenible y a la conservación del ambiente como capital natural que soporta el desarrollo de la región y la estrategia de crecimiento verde. | EI40: Listado de negocios verdes.
F41: PRESUPUESTO VIGENCIA | G41: =M41+AT41+BS41+CR41+U41 -> 1897794000 | H41: 120000000 | I41: =+H41 -> 120000000 | J41: 0 | K41: 104955000 | L41: 90696000 | M41: 104955000 | N41: 90696000 | T41: =+N41 -> 90696000 | U41: 349839000 | AT41: 565000000 | BS41: 565000000 | CR41: 313000000 | DW41: 0 | DX41: 90696000 | DY41: 90696000 | EC41: =DY41/M41 -> 0.86414178 | ED41: =DY41/G41 -> 0.047790224
...

Sheet ACTIVIDADES
D1: DIRECCIONAMIENTO ESTRATÉGICO
D2: Formato: Programación, atualización y seguimiento del plan de acción Actualización y seguimiento a Actividades
D3: Codigo:PE01-PR02-F2 | V3: Versión: 12
A4: DEPENDENCIA: | D4: SEGAE
A5: CÓDIGO Y NOMBRE PROYECTO: | D5: 7794 - Fortalecimiento de la gestión ambiental sectorial, el ecourbanismo y cambio climático en el D.C.Bogotá
A7: 1, LÍNEA DE ACCIÓN | B7: 2, META DE PROYECTO | C7: 3, CÓDIGO Y NOMBRE DE LA ACTIVIDAD | D7: 4, SE EJECUTA CON RECURSOS DE: | F7: 5, PONDERACIÓN HORIZONTAL AÑO: 2020 | T7: 6,PONDERACIÓN VERTICAL | V7: 7, OBSERVACIONES AVANCE A SEPTIEMBRE 2020
D8: 4,1 VIGENCIA | E8: 4,2 RESERVA | F8: VARIABLES | G8: Ene | H8: Feb | I8: Mar | J8: Abr | K8: May | L8: Jun | M8: Jul | N8: Ago | O8: Sep | P8: Oct | Q8: Nov | R8: Dic | S8: Total | T8: 6,1 META | U8: 6,2 ACTIVIDAD
A9: Ecourbanismo y construcción sostenible | B9: Realizar a 600 proyectos de infraestructura, la gestión para la aplicación de determinantes ambientales. | C9: 1. Realizar el acompañamiento para la incorporación de criterios y determinantes ambientales en proyectos de infraestructura. | D9: X | F9: Programado | M9: 0.16 | N9: 0.17 | O9: 0.17 | P9: 0.17 | Q9: 0.17 | R9: 0.16 | S9: =SUM(G9:R9) -> 1 | T9: 0.1 | U9: 0.1 | V9: El acumulado ejecutado en la vigencia 2020, corresponde a 33 proyectos, los cuales se han avanzado en la vigencia 2020 y corresponden a proyectos urbanos y arquitectónicos de diferentes escalas, tanto en espacio público como en privado, promoviendo la construcción sostenible y el ecourbanismo en la ciudad. Los proyectos a los cuales se les incorporó criterios de sostenibilidad corresponden a: Un (01) Plan Parcial de Desarrollo, un (01) Plan Parcial de Renovación Urbana, tres (03) Proyectos de Legalización y Regularización de Barrios, cuatro (04) Planes Directores para parques, dieciséis (16) Diseños paisajísticos de parques y zonas verdes, un (01) proyecto de compatibilidad de uso de vivienda en suelo restringido, un (01) Patio zonal para el Sistema Integrado de Transporte Publico - SITP y seis (06) proyectos de infraestructura especial como colegios, tramos viales en intervenciones en Zonas de Manejo y Preservación Ambiental.
F10: Ejecutado | M10: 0.16 | N10: 0.17 | O10: 0.17 | S10: =SUM(G10:R10) -> 0.5
B11: Realizar a 400 proyectos de infraestructura en etapa de operación, el seguimiento a la incorporación de determinantes ambientales. | C11: 2. Verificar en proyectos de infraestructura la incorporación de criterios y determinantes ambientales en proyectos de infraestructura. | D11: X | F11: Programado | M11: 0 | N11: 0 | O11: 0.1 | P11: 0.2 | Q11: 0.3 | R11: 0.4 | S11: =SUM(G11:R11) -> 1 | T11: 0.1 | U11: 0.1 | V11: Durante la vigencia de 2020, se verificó la incorporación de determinantes ambientales a dos (2) proyectos de infraestructura en el espacio público como son: (02) Planes Directores para Parques, correspondientes al Parque Zonal No. 14 del Plan Parcial La Felicidad y el Parque Metropolitano La Independencia y Bicentenario. Estos proyectos verificados se encuentran localizados en las siguientes localidades: uno (01) Fontibón y uno (01) Santa Fé.
F12: Ejecutado | M12: 0 | N12: 0 | O12: 0.1 | S12: =SUM(G12:R12) -> 0.1
B13: Realizar a 20000 m2 de techos verdes y jardines verticales, el acompañamiento técnico | C13: 3. Realizar el acompañamiento técnico a techos verdes y jardines verticales en la Ciudad. | D13: X | F13: Programado | M13: 0 | N13: 0.3 | O13: 0.175 | P13: 0.175 | Q13: 0.175 | R13: 0.175 | S13: =SUM(G13:R13) -> 1 | T13: 0.1 | U13: 0.1 | V13: El acumulado ejecutado en el segundo semestre del 2020 corresponde al 1257 m2 de techos verdes y jardines verticales de los cuales, fue promovido en las siguientes localidades: Santa Fe (26 m2), Chapinero (1103 m2), Suba (30 m2) y Candelaria (98 m2). Durante el mes de septiembre de 2020 se ha realizado el acompañamiento técnico a 516 m2 correspondientes a jardines verticales, en proyectos existentes en espacio público y privado de la localidad de Chapinero (516 m2) de la Ciudad de Bogotá.
F14: Ejecutado | M14: 0 | N14: 0.3 | O14: 0.175 | S14: =SUM(G14:R14) -> 0.475
A15: Gestión Ambiental Empresarial | B15: Diseñar y hacer seguimiento a 1 estrategia de crecimiento verde con enfoque de sostenibilidad, economía circular e innovación | C15: 4. Prediseñar la estrategia de crecimiento verde para la ciudad. | D15: X | F15: Programado | M15: 0 | N15: 0.1 | O15: 0.2 | P15: 0.3 | Q15: 0.3 | R15: 0.1 | S15: =SUM(G15:R15) -> 1 | T15: 0.1 | U15: 0.1 | V15: Se inició con la revisión de información secundaria para la definición de acciones, competencias y actores internos y externas de las SDA para iniciar el desarrollo del diagnóstico que conforma el prediseño de la Estrategia de Crecimiento Verde. Así mismo, se desarrollaron encuentros con actores externos de las SDA como la academia con la Universidad de los Andes y Biontropic. Producto de estos encuentros fue el logro de actividades proyectadas para desarrollar con la Universidad de los Andes referida a la posibilidad de transferencia de conocimiento, participación en convocatoria para proyecto sectorial con Innova y de inclusión de temas de investigación específicos para el año 2021 y, con Biontropic la proyección de actividades de innovación en las líneas estratégicas trabajadas en el marco de la Estrategia de Crecimiento Verde.
F16: Ejecutado | M16: 0 | N16: 0.1 | O16: 0.2 | S16: =SUM(G16:R16) -> 0.3
B17: Asistir a 800 proyectos participantes de programas voluntarios ofrecidos por la SEGAE, para el mejoramiento del desempeño ambiental. | C17: 5. Desarrollar proyectos de asistencia técnica para el mejoramiento del desempeño ambiental en empresas participantes de programas voluntarios ofrecidos por la SEGAE. | D17: X | F17: Programado | M17: 0 | N17: 0.1 | O17: 0.2 | P17: 0.3 | Q17: 0.3 | R17: 0.1 | S17: =SUM(G17:R17) -> 1 | T17: 0.1 | U17: 0.05 | V17: En el marco del programa Gestión Ambiental Empresarial integrado por la Estrategia ACERCAR y PREAD, se vienen acompañando a las empresas que voluntariamente se han vinculado. En la Estrategia ACERCAR para el presente periodo se culminó la etapa de entrenamientos en vivo y montaje de contenidos para la guía de los participantes, a su vez se continuó con la asistencia técnica referida a la guía de trámites y obligaciones para el cumplimiento normativo ambiental y la retroalimentación de matrices de AIA junto con los programas y proyectos presentados por las empresas.
F18: Ejecutado | M18: 0 | N18: 0.1 | O18: 0.2 | S18: =SUM(G18:R18) -> 0.3
C19: 6.Desarrollar las actividades programadas en cada convocatoria del Programa de Excelencia Ambiental Distrital - PREAD. | D19: X | F19: Programado | M19: 0 | N19: 0.1 | O19: 0.2 | P19: 0.3 | Q19: 0.3 | R19: 0.1 | S19: =SUM(G19:R19) -> 1 | U19: 0.05 | V19: El Programa de Excelencia Ambiental Distrital (PREAD) en su XX convocatoria del año 2020, se desarrolla a través de varias etapas postulación, verificación, notificación, planeación, ejecución, revisión, validación y final con la entrega de informes y reconocimiento. Actualmente, se continua con la fase de ejecución con el desarrollo de auditorias, en el mes del presente informe se realizaron 73 auditorías, acorde con la programación establecida con SGS entidad auditora contratada. En tal sentido, con base en el cronograma de reporte para el mes de septiembre se reportan 10 proyectos dirigidos al uso eficiente de los recursos presentado por las empresas participantes.
F20: Ejecutado | M20: 0 | N20: 0.1 | O20: 0.2 | S20: =SUM(G20:R20) -> 0.3
B21: Acompañar y promover a 100 empresas en el proceso de verificación de los criterios de Negocios verdes. | C21: 7. Diseño de estrategias para los negocios verdes. | D21: X | F21: Programado | M21: 0.05 | N21: 0.1 | O21: 0.2 | P21: 0.25 | Q21: 0.25 | R21: 0.15 | S21: =SUM(G21:R21) -> 1 | T21: 0.1 | U21: 0.0333 | V21: Se ajusto el Plan Distrital de Negocios Verdes, de manera tal, que se definen diferentes estrategias para el fortalecimiento de los negocios verdes, y se construyo el primer borrador de la ruta de emprendimiento.
F22: Ejecutado | M22: 0.05 | N22: 0.1 | O22: 0.2 | S22: =SUM(G22:R22) -> 0.35
C23: 8. Realizar el acompañamiento en el proceso de fortalecimiento de negocios verdes | D23: X | F23: Programado | M23: 0.05 | N23: 0.15 | O23: 0.2 | P23: 0.2 | Q23: 0.2 | R23: 0.2 | S23: =SUM(G23:R23) -> 1 | U23: 0.0333 | V23: Se realizó el proceso de participación en la convocatoria de Escalamiento Creativo de Impulsa Colombia, con el fin de fortalecer los procesos con los negocios verdes.
F24: Ejecutado | M24: 0.05 | N24: 0.15 | O24: 0.2 | S24: =SUM(G24:R24) -> 0.4
C25: 9. Verificación y seguimiento a los criterios de negocios verdes. | D25: X | F25: Programado | M25: 0.05 | N25: 0.15 | O25: 0.2 | P25: 0.2 | Q25: 0.2 | R25: 0.2 | S25: =SUM(G25:R25) -> 1 | U25: 0.0333 | V25: Se realizaron 7 procesos de seguimiento a la verificación de criterios para las empresas Vermeladas, La Despensa, It Automatización, Encurtidos Doña Lola, Akla, Ekoreciclart y Aromas Esenciales.
F26: Ejecutado | M26: 0.05 | N26: 0.15 | O26: 0.2 | S26: =SUM(G26:R26) -> 0.4
B27: Desarrollar 6 proyectos pilotos de economía circular en sectores productivos priorizados | C27: 10. Diseño de los proyectos de economía circular. | D27: X | F27: Programado | M27: 0.05 | N27: 0.15 | O27: 0.2 | P27: 0.2 | Q27: 0.2 | R27: 0.2 | S27: =SUM(G27:R27) -> 1 | T27: 0.1 | U27: 0.0333 | V27: En el marco del proceso de formulación de los proyectos de economía circular, se consolidan 57 proyectos diseñados por las empresas participantes, los cuales están en fase de evaluación y ajuste.
F28: Ejecutado | M28: 0.05 | N28: 0.15 | O28: 0.2 | S28: =SUM(G28:R28) -> 0.4
C29: 11. Realizar el acompañamiento de los procesos de promoción de los proyectos. | D29: X | F29: Programado | M29: 0.05 | N29: 0.15 | O29: 0.2 | P29: 0.2 | Q29: 0.2 | R29: 0.2 | S29: =SUM(G29:R29) -> 1 | U29: 0.0333 | V29: Se lideraron 8 sesiones de acompañamiento para fortalecer y ajustar las ideas de proyectos en los grupos empresariales.
F30: Ejecutado | M30: 0.05 | N30: 0.15 | O30: 0.2 | S30: =SUM(G30:R30) -> 0.4
C31: 12. Presentación de informes de avance en los proyectos | D31: X | F31: Programado | M31: 0.05 | N31: 0.15 | O31: 0.2 | P31: 0.2 | Q31: 0.2 | R31: 0.2 | S31: =SUM(G31:R31) -> 1 | U31: 0.0334 | V31: Se genera el documento de priorización de sectores para el desarrollo de pilotos de economía circular, con base en la información suministrada por las empresas participantes y del contexto nacional y local de la gestión de la economía circular.
F32: Ejecutado | M32: 0.05 | N32: 0.15 | O32: 0.2 | S32: =SUM(G32:R32) -> 0.4
B33: Desarrollar 9 proyectos de producción más limpia en los sectores priorizados | C33: 13. Formulación e implementación de un plan anual para la implementación de producción más limpia en los sectores de curtiembres y metalurgia (galvanoplastia), que incluya programación de capacitaciones. | D33: X | F33: Programado | M33: 0 | N33: 0 | O33: 0 | P33: 0.3 | Q33: 0.3 | R33: 0.4 | S33: =SUM(G33:R33) -> 1 | T33: 0.1 | U33: 0.05 | V33: Durante la vigencia 2020 se avanzó en la fase de aprestamiento y planeación para el desarrollo de los proyectos de producción más limpia para los sectores priorizados en el POMCA. Los sectores priorizados son el sector de galvanoplastia, minería y curtiembres. Específicamente para el presente año se iniciará con la formulación del primer proyecto a realizar con el sector de curtiembres y con este fin se han realizado las siguientes gestiones: Se avanzó en el proceso de caracterización de las 68 empresas que entregaron informe de resultados de sus vertimientos realizado en el año 2019 a la Empresa de Acueducto y Alcantarillado, dado que serán las empresas priorizadas para el desarrollo de proyectos de producción más limpia. De tal manera, se ha realizado la revisión ante conceptos técnicos e informes radicados ante el EAAB, asociando la descripción de los procesos industriales y unidades de tratamiento, así como, los resultados obtenidos por cada uno de los parámetros caracterizados. Esta información será corroborada posteriormente con información remitida por la Secretaría Distrital de Salud de las visitas de vigilancia y seguridad ambiental, y, frente a autodiagnósticos que permitan caracterizar la información consolidada de manera inicial. Por otro lado, se realizó reuniones con el Ministerio de Comercio, Industria y Turismo, la Secretaría Distrital de Desarrollo Económico, ASOPIESB y la Universidad de los Andes (actores de interés), con el fin de fortalecer la formulación del proyecto asociado al fortalecimiento de la cadena de valor del sector curtidor, estableciendo el árbol de problema del proyecto a través de la metodología marco lógico, relación de posibles actividades que conllevarían a la solución del problema, sus respectivas causas y consecuencias. Así mismo, se estableció un plan de trabajo técnico preliminar con la Universidad de los Andes definiendo objetivo general, específico, y, actividades que podrán ser ejecutadas con respecto a la problemática identificada por los diferentes actores.
F34: Ejecutado | M34: 0 | N34: 0 | S34: =SUM(G34:R34) -> 0
C35: 14. Formulación e implementación del plan anual de apoyo técnico y buenas prácticas a explotaciones mineras. | D35: X | F35: Programado | M35: 0 | N35: 0 | O35: 0 | P35: 0.3 | Q35: 0.3 | R35: 0.4 | S35: =SUM(G35:R35) -> 1 | U35: 0.05 | V35: Para el sector de minería se llevó a cabo la contratación de un geólogo que permita fortalecer los aspectos técnicos a abordar con el sector, y, se realizó mesas de trabajo con empresas en el PMI de Tunjuelito y PMI de USME para conocer el desarrollo de necesidades de cada una de las empresas y fortaleciendo de esta manera el diagnóstico sectorial
F36: Ejecutado | M36: 0 | N36: 0 | S36: =SUM(G36:R36) -> 0
A37: Plan de Acción Climática para Bogotá D.C. 2020 - 2050. | B37: Articular y consolidar 1 Plan de Acción Climática para Bogotá D.C. 2020 - 2050. | C37: 15. Hacer un taller intersectorial de arranque con las diferentes entidades distrital para la revisión de medidas de mitigación y adaptación - Producto: Taller + Reporte del taller. | D37: X | F37: Programado | M37: 1 | S37: =SUM(G37:R37) -> 1 | T37: 0.1 | U37: 0.0091 | V37: Se hizo el taller "Retos y prioridades en mitigación y adaptación al cambio climático" el 22 de julio de 2020 al que asistieron 92 personas a través de la plataforma Zoom.
F38: Ejecutado | M38: 1 | S38: =SUM(G38:R38) -> 1
C39: 16. Revisión y retroalimentación de la información actual y futura de riesgo climático y la evidencia de las acciones de adaptación, con el objetivo del cumplimiento del Framework de C40. | D39: X | F39: Programado | N39: 0.1 | O39: 0.6 | P39: 0.3 | S39: =SUM(G39:R39) -> 1 | U39: 0.0091 | V39: * Se apoyó la revisión y socialización de las metodologías establecidas por C40 para la evaluación del riesgo climático, con el fin de identificar la más apropiada para aplicarse en Bogotá. * A través de sesiones de trabajo conjuntas con el IDIGER y la consultora AECOM, se determinó la metodología para la elaboración de la evaluación del riesgo climático en Bogotá, teniendo en cuenta las circunstancias y capacidades distritales. * Se realizó la revisión de las fichas de vulnerabilidad por localidades, elaboradas por el IDIGER. Se sugirieron ajustes conceptuales, los cuales fueron discutidos a través de una reunión virtual. * Se llevaron a cabo sesiones de trabajo conjuntas entre la SDA, AECOM y el IDIGER para la definición conceptual de riesgo climático, de tal manera que se articule el Framework propuesto por C40 y la normativa nacional (Ley 1931 de 2018 y Ley 1523 de 2015). * Se ha apoyado la definición de indicadores de vulnerabilidad, a partir de la consolidación de información ecológica, de infraestructura y socioeconómica a la cual tiene acceso la SDA.
F40: Ejecutado | N40: 0.1 | O40: 60%% | S40: =SUM(G40:R40) -> 0.1
C41: 17. Construcción de acciones transformadoras de adaptación, ante los impactos del cambio climático de acuerdo con los objetivos del Acuerdo de Paris y de adaptación de la ciudad. | D41: X | F41: Programado | O41: 0.3 | P41: 0.7 | S41: =SUM(G41:R41) -> 1 | U41: 0.0091 | V41: Como punto de partida, se analizaron las acciones de adaptación al cambio climático existentes y planificadas que la Dirección de Gestión Ambiental viene desarrollando y proyecta llevar a cabo durante el cuatrienio 2020-2024, a la luz de su aporte para fortalecer la capacidad adaptativa en las dimensiones del riesgo de seguridad alimentaria, recurso hídrico, hábitat humano, infraestructura y salud; su capacidad de fortalecer la resiliencia al cambio climático; su aporte al cumplimiento de las metas del Plan de Desarrollo Distrital; su relación con la metas del Plan de Gestión del Riesgo y Cambio Climático; su aporte al cumplimiento de las metas de adaptación de la NDC del país y las sinergias con los ODS.
...

Sheet TERRITORIALIZACIÓN
E1: DIRECCIONAMIENTO ESTRATÉGICO
E2: PROGRAMACIÓN, ACTUALIZACIÓN Y SEGUIMIENTO DEL PLAN DE ACCIÓN Actualización y seguimiento a la Territorialización
E3: Codigo:PE01-PR02-F2 | AE3: Versión: 12
A4: DEPENDENCIA: | E4: SEGAE
A5: CÓDIGO Y NOMBRE PROYECTO: | E5: 7794 - Fortalecimiento de la gestión ambiental sectorial, el ecourbanismo y cambio climático en el D.C.Bogotá
A6: PERIODO: | E6: CORTE A 30 DE SEPTIEMBRE AÑO 2020
A8: 1, COD. META | B8: 2, Meta Proyecto | C8: 3. Identificación del punto de invesión | D8: 4, Variable | E8: 5. PROGRAMACIÓN INICIAL AÑO 2020 | G8: 6, ACTUALIZACIÓN | T8: 7,EJECUTADO | AG8: 8, LOCALIZACIÓN GEOGRÁFICA | AL8: 9, ORIENTACIÓN | AN8: 10. POBLACIÓN | AU8: 11, LECCIONES APRENDIDAS - OBSERVACIONES
F9: REPROGRAMACIÓN VIGENCIA | G9: Ene | H9: Feb | I9: Mar | J9: Abr | K9: May | L9: Jun | M9: Jul | N9: Ago | O9: Sep | P9: Oct | Q9: Nov | R9: Dic | S9: Observaciones | T9: Ene | U9: Feb | V9: Mar | W9: Abr | X9: May | Y9: Jun | Z9: Jul | AA9: Ago | AB9: Sep | AC9: Oct | AD9: Nov | AE9: Dic | AF9: Observaciones y/o descripcion de acciones en el punto de inversión | AG9: 8,1 LOCALIDAD(ES) | AH9: 8.2 UPZ(S) | AI9: 8,3 BARRIO(S) | AJ9: 8,4 GEORREFERENCIACIÓN | AK9: 8,5 ÁREA DE INFLUENCIA E INCIDENCIA | AL9: 9,1 POLÍGONO DE MEJORAMIENTO INTEGRAL | AM9: 9,2 POLÍTICA | AN9: 10.1 NÚMERO DE HOMBRES | AO9: 10.2 NÚMERO DE MUJERES | AP9: 10.3 NÚMERO INTERSEXUAL | AQ9: 10.4 GRUPO ETARIO | AR9: 10.5 CONDICION POBLACIONAL | AS9: 10.6 GRUPOS ETNICOS | AT9: 10.7 TOTAL POBLACIÓN PERSONAS/CANTIDAD
